BEGIN:VCALENDAR
VERSION:2.0
PRODID:-//eventon.com NONSGML v1.0//EN
CALSCALE:GREGORIAN
METHOD:PUBLISH
BEGIN:VEVENT
UID:69e648387b0d7
DTSTAMP:20260420T153728Z
DTSTART:20260911T093000Z
DTEND:20260911T163000Z
LOCATION:
SUMMARY:Facilitator Training 1 â€“ September/October 2026
DESCRIPTION:Friday\,  11th September 2026 Friday\,  18th Septemebr 2026 Fri
 day\,  25th September 2026 Friday\,  2nd October 2026 Through Zoom. Costs â
 ‚¬50. Closing Date for receipt of applications: Friday\,  4th September 202
 6. Applications received after this date will not be processed.\nhttps://ra
 inbowsireland.ie/events/facilitator-training-1-september-october-2026
URL:https://rainbowsireland.ie/events/facilitator-training-1-september-october-2026
END:VEVENT
END:VCALENDAR