BEGIN:VCALENDAR
VERSION:2.0
PRODID:-//eventon.com NONSGML v1.0//EN
CALSCALE:GREGORIAN
METHOD:PUBLISH
BEGIN:VEVENT
UID:69e647d2f1e46
DTSTAMP:20260420T153546Z
DTSTART:20260505T190000Z
DTEND:20260505T200000Z
LOCATION:
SUMMARY:Coordinator Peer Support 3
DESCRIPTION:Coordinator Peer Support 3\nhttps://rainbowsireland.ie/events/c
 oordinator-peer-support-3
URL:https://rainbowsireland.ie/events/coordinator-peer-support-3
END:VEVENT
END:VCALENDAR