BEGIN:VCALENDAR
VERSION:2.0
PRODID:-//eventon.com NONSGML v1.0//EN
CALSCALE:GREGORIAN
METHOD:PUBLISH
BEGIN:VEVENT
UID:69e64810ae006
DTSTAMP:20260420T153648Z
DTSTART:20260506T190000Z
DTEND:20260506T200000Z
LOCATION:
SUMMARY:Facilitator Peer Support 3
DESCRIPTION:Facilitator Peer Support 3\nhttps://rainbowsireland.ie/events/f
 acilitator-peer-support-3
URL:https://rainbowsireland.ie/events/facilitator-peer-support-3
END:VEVENT
END:VCALENDAR