BEGIN:VCALENDAR
VERSION:2.0
PRODID:-//eventon.com NONSGML v1.0//EN
CALSCALE:GREGORIAN
METHOD:PUBLISH
BEGIN:VEVENT
UID:69e648330f8ff
DTSTAMP:20260420T153723Z
DTSTART:20260506T153000Z
DTEND:20260506T173000Z
LOCATION:
SUMMARY:Continued Professional Facilitator Refresher Training 4
DESCRIPTION:Continued Professional Facilitator Refresher Training 4\nhttps:
 //rainbowsireland.ie/events/continued-professional-facilitator-training-4
URL:https://rainbowsireland.ie/events/continued-professional-facilitator-training-4
END:VEVENT
END:VCALENDAR