BEGIN:VCALENDAR
VERSION:2.0
PRODID:-//eventon.com NONSGML v1.0//EN
CALSCALE:GREGORIAN
METHOD:PUBLISH
BEGIN:VEVENT
UID:69e647fb8392e
DTSTAMP:20260420T153627Z
DTSTART:20260609T150000Z
DTEND:20260609T180000Z
LOCATION:
SUMMARY:Continued Professional Coordinator Training 7
DESCRIPTION:Continued Professional Coordinator Training 7\nhttps://rainbows
 ireland.ie/events/continued-professional-coordinator-training-7
URL:https://rainbowsireland.ie/events/continued-professional-coordinator-training-7
END:VEVENT
END:VCALENDAR