BEGIN:VCALENDAR
VERSION:2.0
PRODID:-//eventon.com NONSGML v1.0//EN
CALSCALE:GREGORIAN
METHOD:PUBLISH
BEGIN:VEVENT
UID:69e64810adc5a
DTSTAMP:20260420T153648Z
DTSTART:20260421T180000Z
DTEND:20260421T200000Z
LOCATION:
SUMMARY:Continued Professional Coordinator Training 6
DESCRIPTION:Continued Professional Coordinator Training 6\nhttps://rainbows
 ireland.ie/events/continued-professional-coordinator-training-6
URL:https://rainbowsireland.ie/events/continued-professional-coordinator-training-6
END:VEVENT
END:VCALENDAR