BEGIN:VCALENDAR
VERSION:2.0
PRODID:-//eventon.com NONSGML v1.0//EN
CALSCALE:GREGORIAN
METHOD:PUBLISH
BEGIN:VEVENT
UID:69e648331c0eb
DTSTAMP:20260420T153723Z
DTSTART:20260602T150000Z
DTEND:20260602T180000Z
LOCATION:
SUMMARY:Coordinator Training 7
DESCRIPTION:Coordinator Training 7\nhttps://rainbowsireland.ie/events/coord
 inator-training-7
URL:https://rainbowsireland.ie/events/coordinator-training-7
END:VEVENT
END:VCALENDAR