BEGIN:VCALENDAR
VERSION:2.0
PRODID:-//eventon.com NONSGML v1.0//EN
CALSCALE:GREGORIAN
METHOD:PUBLISH
BEGIN:VEVENT
UID:69e648645b494
DTSTAMP:20260420T153812Z
DTSTART:20260414T180000Z
DTEND:20260414T210000Z
LOCATION:
SUMMARY:Coordinator Training 6
DESCRIPTION:Coordinator Training 6\nhttps://rainbowsireland.ie/events/coord
 inator-training-6
URL:https://rainbowsireland.ie/events/coordinator-training-6
END:VEVENT
END:VCALENDAR