BEGIN:VCALENDAR
VERSION:2.0
PRODID:-//eventon.com NONSGML v1.0//EN
CALSCALE:GREGORIAN
METHOD:PUBLISH
BEGIN:VEVENT
UID:69e6481188da0
DTSTAMP:20260420T153649Z
DTSTART:20260430T093000Z
DTEND:20260430T163000Z
LOCATION:
SUMMARY:FACILITATOR TRAINING 13-FULLY BOOKED
DESCRIPTION:Thursday\,  30th April 2026 Thursday\,  7th May2026 Thursday\, 
  14th May 2026 Thursday\,  28th May 2026 Through Zoom. Costs €50. Closing
  Date for receipt of applications: Friday\,  24th April 2026. Applications 
 received after this date will not be processed.\nhttps://rainbowsireland.ie
 /events/facilitator-training-13
URL:https://rainbowsireland.ie/events/facilitator-training-13
END:VEVENT
END:VCALENDAR