BEGIN:VCALENDAR
VERSION:2.0
PRODID:-//eventon.com NONSGML v1.0//EN
CALSCALE:GREGORIAN
METHOD:PUBLISH
BEGIN:VEVENT
UID:69e647fcd7993
DTSTAMP:20260420T153628Z
DTSTART:20260511T093000Z
DTEND:20260511T163000Z
LOCATION:
SUMMARY:FACILITATOR TRAINING 12 - FULLY BOOKED
DESCRIPTION:Monday\,  11th May 2026 Tuesday\,  12th May 2026 Monday\,   18
 th May 2026 Tuesday\,  19th May 2026 Through Zoom. Costs €50. Closing Dat
 e for receipt of applications: Friday\,  1st May 2026. Applications receive
 d after this date will not be processed.\nhttps://rainbowsireland.ie/events
 /facilitator-training-12
URL:https://rainbowsireland.ie/events/facilitator-training-12
END:VEVENT
END:VCALENDAR