BEGIN:VCALENDAR
VERSION:2.0
PRODID:-//eventon.com NONSGML v1.0//EN
CALSCALE:GREGORIAN
METHOD:PUBLISH
BEGIN:VEVENT
UID:69e647fb8548b
DTSTAMP:20260420T153627Z
DTSTART:20260418T093000Z
DTEND:20260418T163000Z
LOCATION:
SUMMARY:FACILITATOR TRAINING 11-FULLY BOOKED
DESCRIPTION:Saturday\,  18th April 2026 Sunday\,  19th April 2026 Saturday\
 ,   9th May 2026 Sunday\,  10th May 2026 Through Zoom. Costs €50. Closin
 g Date for receipt of applications: Friday\,  10th April 2026. Applications
  received after this date will not be processed.\nhttps://rainbowsireland.i
 e/events/facilitator-training-11
URL:https://rainbowsireland.ie/events/facilitator-training-11
END:VEVENT
END:VCALENDAR