BEGIN:VCALENDAR
VERSION:2.0
PRODID:-//eventon.com NONSGML v1.0//EN
CALSCALE:GREGORIAN
METHOD:PUBLISH
BEGIN:VEVENT
UID:69eb91e3d7ecc
DTSTAMP:20260424T155307Z
DTSTART:20260518T160000Z
DTEND:20260518T170000Z
LOCATION:
SUMMARY:INFORMATION MEETING 9
DESCRIPTION:INFORMATION MEETING 9\nhttps://rainbowsireland.ie/events/inform
 ation-meeting-9
URL:https://rainbowsireland.ie/events/information-meeting-9
END:VEVENT
END:VCALENDAR