BEGIN:VCALENDAR
VERSION:2.0
PRODID:-//eventon.com NONSGML v1.0//EN
CALSCALE:GREGORIAN
METHOD:PUBLISH
BEGIN:VEVENT
UID:69e64864595d1
DTSTAMP:20260420T153812Z
DTSTART:20260420T091500Z
DTEND:20260420T101500Z
LOCATION:
SUMMARY:INFORMATION MEETING 8
DESCRIPTION:INFORMATION MEETING 8\nhttps://rainbowsireland.ie/events/inform
 ation-meeting-8
URL:https://rainbowsireland.ie/events/information-meeting-8
END:VEVENT
END:VCALENDAR